BEGIN:VCALENDAR
VERSION:2.0
PRODID:-//Trinity Evangelical Lutheran Church - ECPv6.15.20//NONSGML v1.0//EN
CALSCALE:GREGORIAN
METHOD:PUBLISH
X-ORIGINAL-URL:https://www.trinityaubne.org
X-WR-CALDESC:Events for Trinity Evangelical Lutheran Church
REFRESH-INTERVAL;VALUE=DURATION:PT1H
X-Robots-Tag:noindex
X-PUBLISHED-TTL:PT1H
BEGIN:VTIMEZONE
TZID:UTC
BEGIN:STANDARD
TZOFFSETFROM:+0000
TZOFFSETTO:+0000
TZNAME:UTC
DTSTART:20200101T000000
END:STANDARD
END:VTIMEZONE
BEGIN:VTIMEZONE
TZID:America/Chicago
BEGIN:DAYLIGHT
TZOFFSETFROM:-0600
TZOFFSETTO:-0500
TZNAME:CDT
DTSTART:20190310T080000
END:DAYLIGHT
BEGIN:STANDARD
TZOFFSETFROM:-0500
TZOFFSETTO:-0600
TZNAME:CST
DTSTART:20191103T070000
END:STANDARD
BEGIN:DAYLIGHT
TZOFFSETFROM:-0600
TZOFFSETTO:-0500
TZNAME:CDT
DTSTART:20200308T080000
END:DAYLIGHT
BEGIN:STANDARD
TZOFFSETFROM:-0500
TZOFFSETTO:-0600
TZNAME:CST
DTSTART:20201101T070000
END:STANDARD
BEGIN:DAYLIGHT
TZOFFSETFROM:-0600
TZOFFSETTO:-0500
TZNAME:CDT
DTSTART:20210314T080000
END:DAYLIGHT
BEGIN:STANDARD
TZOFFSETFROM:-0500
TZOFFSETTO:-0600
TZNAME:CST
DTSTART:20211107T070000
END:STANDARD
END:VTIMEZONE
BEGIN:VEVENT
DTSTART;TZID=UTC:20230521T100000
DTEND;TZID=UTC:20230521T130000
DTSTAMP:20260420T031210
CREATED:20230516T041018Z
LAST-MODIFIED:20230516T041018Z
UID:5458-1684663200-1684674000@www.trinityaubne.org
SUMMARY:Outdoor Worship and Potluck
DESCRIPTION:Please join us for an outdoor worship setting at the Auburn Recreation Complex on May 21st.  Worship will start at 10:00AM\, with a potluck dinner to follow.  All are welcome\, so invite a friend.
URL:https://www.trinityaubne.org/event/outdoor-worship-and-potluck/
LOCATION:Auburn Recreation Complex\, 419 Q St.\, Auburn\, NE\, 68305
CATEGORIES:Church Service,Social Events
END:VEVENT
BEGIN:VEVENT
DTSTART;TZID=UTC:20210214T080000
DTEND;TZID=UTC:20210214T170000
DTSTAMP:20260420T031210
CREATED:20210215T001848Z
LAST-MODIFIED:20210215T001848Z
UID:4367-1613289600-1613322000@www.trinityaubne.org
SUMMARY:Ash Wednesday Service
DESCRIPTION:Ash Wednesday Service 2/17/2021 at 7:00pm. This marks the start of our Lenten season Wednesday evening services.
URL:https://www.trinityaubne.org/event/ash-wednesday-service/
LOCATION:NE
CATEGORIES:Church Service
ATTACH;FMTTYPE=image/jpeg:https://www.trinityaubne.org/wp-content/uploads/2018/01/Ash-Wednesday-Cross.jpg
END:VEVENT
BEGIN:VEVENT
DTSTART;TZID=America/Chicago:20200607T090000
DTEND;TZID=America/Chicago:20200607T100000
DTSTAMP:20260420T031210
CREATED:20200519T034111Z
LAST-MODIFIED:20200519T034111Z
UID:3980-1591520400-1591524000@www.trinityaubne.org
SUMMARY:Tentative Restart -- Worship Service
DESCRIPTION:A tentative date for restarting public worship services has been set for Sunday\, June 7th\, the Lord willing.
URL:https://www.trinityaubne.org/event/tentative-restart-worship-service/
LOCATION:NE
CATEGORIES:Church Service
END:VEVENT
END:VCALENDAR